BEGIN:VCALENDAR
METHOD:PUBLISH
PRODID:Data::ICal 0.13
VERSION:2.0
BEGIN:VEVENT
DESCRIPTION:Come out and meet your Radio-One Cleveland family for Do Something Day 2025!
Join us at 3000 St. Clair (Crust Midtown) to help donate hats, gloves, socks, and hand warmers on Monday, January 20th from 10 a.m. to 2 p.m.!
Your donations will help warm men, women, and children in Cleveland!
No registration is required. We&#8217;ll see you Monday!
DTSTAMP:20260421T184251Z
DTSTART;TZID=America/New_York:20250120T000000
DTEND;TZID=America/New_York:20250120T000000
LOCATION:3000 St Claire Ave\, Cleveland
SUMMARY:Join Us For Do Something Day 2025!
UID:3001387-1737331200-1737331200
END:VEVENT
END:VCALENDAR
